BEGIN:VCALENDAR
VERSION:2.0
PRODID:https://www.kufer.de/kuferweb / DE
METHOD:PUBLISH
CALSCALE:GREGORIAN
X-WR-TIMEZONE:Europe/Berlin
BEGIN:VTIMEZONE
TZID:Europe/Berlin
X-LIC-LOCATION:Europe/Berlin
BEGIN:DAYLIGHT
TZOFFSETFROM:+0100
TZOFFSETTO:+0200
TZNAME:CEST
DTSTART:19700329T020000
RRULE:FREQ=YEARLY;INTERVAL=1;BYDAY=-1SU;BYMONTH=3
END:DAYLIGHT
BEGIN:STANDARD
TZOFFSETFROM:+0200
TZOFFSETTO:+0100
TZNAME:CET
DTSTART:19701025T030000
RRULE:FREQ=YEARLY;INTERVAL=1;BYDAY=-1SU;BYMONTH=10
END:STANDARD
END:VTIMEZONE
BEGIN:VEVENT
DTSTAMP:20260421T130112
DTSTART;TZID=Europe/Berlin:20260918T160000
DTEND;TZID=Europe/Berlin:20260918T210000
UID:26-101007-20260918T160000@KVHSSÖMMERDA
SUMMARY:(104-26) "Eleganz der Jugendstil- Schrift – Feder, Form & Ornamentik Teil 2" (26-101007) 
LOCATION:VHS-Hauptgebäude 212, Rheinmetallstraße 2, 99610 Sömmerda
END:VEVENT
BEGIN:VEVENT
DTSTAMP:20260421T130112
DTSTART;TZID=Europe/Berlin:20260919T100000
DTEND;TZID=Europe/Berlin:20260919T160000
UID:26-101007-20260919T100000@KVHSSÖMMERDA
SUMMARY:(104-26) "Eleganz der Jugendstil- Schrift – Feder, Form & Ornamentik Teil 2" (26-101007) 
LOCATION:VHS-Hauptgebäude 212, Rheinmetallstraße 2, 99610 Sömmerda
END:VEVENT
END:VCALENDAR