BEGIN:VCALENDAR
VERSION:2.0
PRODID:https://www.kufer.de/kuferweb / DE
METHOD:PUBLISH
CALSCALE:GREGORIAN
X-WR-TIMEZONE:Europe/Berlin
BEGIN:VTIMEZONE
TZID:Europe/Berlin
X-LIC-LOCATION:Europe/Berlin
BEGIN:DAYLIGHT
TZOFFSETFROM:+0100
TZOFFSETTO:+0200
TZNAME:CEST
DTSTART:19700329T020000
RRULE:FREQ=YEARLY;INTERVAL=1;BYDAY=-1SU;BYMONTH=3
END:DAYLIGHT
BEGIN:STANDARD
TZOFFSETFROM:+0200
TZOFFSETTO:+0100
TZNAME:CET
DTSTART:19701025T030000
RRULE:FREQ=YEARLY;INTERVAL=1;BYDAY=-1SU;BYMONTH=10
END:STANDARD
END:VTIMEZONE
BEGIN:VEVENT
DTSTAMP:20260422T161906
DTSTART;TZID=Europe/Berlin:20260306T163000
DTEND;TZID=Europe/Berlin:20260306T180000
UID:26-320207-20260306T163000@KVHSSÖMMERDA
SUMMARY:(078-26) Line Dance für Anfänger mit Vorkenntnissen (26-320207) 
LOCATION:VHS-Hauptgebäude Mehrzweckraum/Speiseraum, Rheinmetallstraße 2, 99610 Sömmerda
END:VEVENT
BEGIN:VEVENT
DTSTAMP:20260422T161906
DTSTART;TZID=Europe/Berlin:20260313T163000
DTEND;TZID=Europe/Berlin:20260313T180000
UID:26-320207-20260313T163000@KVHSSÖMMERDA
SUMMARY:(078-26) Line Dance für Anfänger mit Vorkenntnissen (26-320207) 
LOCATION:VHS-Hauptgebäude Mehrzweckraum/Speiseraum, Rheinmetallstraße 2, 99610 Sömmerda
END:VEVENT
BEGIN:VEVENT
DTSTAMP:20260422T161906
DTSTART;TZID=Europe/Berlin:20260320T163000
DTEND;TZID=Europe/Berlin:20260320T180000
UID:26-320207-20260320T163000@KVHSSÖMMERDA
SUMMARY:(078-26) Line Dance für Anfänger mit Vorkenntnissen (26-320207) 
LOCATION:VHS-Hauptgebäude Mehrzweckraum/Speiseraum, Rheinmetallstraße 2, 99610 Sömmerda
END:VEVENT
BEGIN:VEVENT
DTSTAMP:20260422T161906
DTSTART;TZID=Europe/Berlin:20260327T163000
DTEND;TZID=Europe/Berlin:20260327T180000
UID:26-320207-20260327T163000@KVHSSÖMMERDA
SUMMARY:(078-26) Line Dance für Anfänger mit Vorkenntnissen (26-320207) 
LOCATION:VHS-Hauptgebäude Mehrzweckraum/Speiseraum, Rheinmetallstraße 2, 99610 Sömmerda
END:VEVENT
BEGIN:VEVENT
DTSTAMP:20260422T161906
DTSTART;TZID=Europe/Berlin:20260417T163000
DTEND;TZID=Europe/Berlin:20260417T180000
UID:26-320207-20260417T163000@KVHSSÖMMERDA
SUMMARY:(078-26) Line Dance für Anfänger mit Vorkenntnissen (26-320207) 
LOCATION:VHS-Hauptgebäude Mehrzweckraum/Speiseraum, Rheinmetallstraße 2, 99610 Sömmerda
END:VEVENT
BEGIN:VEVENT
DTSTAMP:20260422T161906
DTSTART;TZID=Europe/Berlin:20260424T163000
DTEND;TZID=Europe/Berlin:20260424T180000
UID:26-320207-20260424T163000@KVHSSÖMMERDA
SUMMARY:(078-26) Line Dance für Anfänger mit Vorkenntnissen (26-320207) 
LOCATION:VHS-Hauptgebäude Mehrzweckraum/Speiseraum, Rheinmetallstraße 2, 99610 Sömmerda
END:VEVENT
BEGIN:VEVENT
DTSTAMP:20260422T161906
DTSTART;TZID=Europe/Berlin:20260508T163000
DTEND;TZID=Europe/Berlin:20260508T180000
UID:26-320207-20260508T163000@KVHSSÖMMERDA
SUMMARY:(078-26) Line Dance für Anfänger mit Vorkenntnissen (26-320207) 
LOCATION:VHS-Hauptgebäude Mehrzweckraum/Speiseraum, Rheinmetallstraße 2, 99610 Sömmerda
END:VEVENT
BEGIN:VEVENT
DTSTAMP:20260422T161906
DTSTART;TZID=Europe/Berlin:20260522T163000
DTEND;TZID=Europe/Berlin:20260522T180000
UID:26-320207-20260522T163000@KVHSSÖMMERDA
SUMMARY:(078-26) Line Dance für Anfänger mit Vorkenntnissen (26-320207) 
LOCATION:VHS-Hauptgebäude Mehrzweckraum/Speiseraum, Rheinmetallstraße 2, 99610 Sömmerda
END:VEVENT
BEGIN:VEVENT
DTSTAMP:20260422T161906
DTSTART;TZID=Europe/Berlin:20260529T163000
DTEND;TZID=Europe/Berlin:20260529T180000
UID:26-320207-20260529T163000@KVHSSÖMMERDA
SUMMARY:(078-26) Line Dance für Anfänger mit Vorkenntnissen (26-320207) 
LOCATION:VHS-Hauptgebäude Mehrzweckraum/Speiseraum, Rheinmetallstraße 2, 99610 Sömmerda
END:VEVENT
BEGIN:VEVENT
DTSTAMP:20260422T161906
DTSTART;TZID=Europe/Berlin:20260605T163000
DTEND;TZID=Europe/Berlin:20260605T180000
UID:26-320207-20260605T163000@KVHSSÖMMERDA
DESCRIPTION:Ersatz für Ausfall am 10.04.2026
SUMMARY:(078-26) Line Dance für Anfänger mit Vorkenntnissen (26-320207) 
LOCATION:VHS-Hauptgebäude Mehrzweckraum/Speiseraum, Rheinmetallstraße 2, 99610 Sömmerda
END:VEVENT
END:VCALENDAR